BEGIN:VCALENDAR
VERSION:2.0
PRODID:-//Serve The City Luxembourg - ECPv4.6.17//NONSGML v1.0//EN
CALSCALE:GREGORIAN
METHOD:PUBLISH
X-WR-CALNAME:Serve The City Luxembourg
X-ORIGINAL-URL:http://servethecity.lu
X-WR-CALDESC:Events for Serve The City Luxembourg
BEGIN:VEVENT
DTSTART;TZID=Europe/Luxembourg:20171021T190000
DTEND;TZID=Europe/Luxembourg:20171021T210000
DTSTAMP:20200426T101141
CREATED:20170904T171405Z
LAST-MODIFIED:20170904T171420Z
UID:5537-1508612400-1508619600@servethecity.lu
SUMMARY:Filmowend mat Frënn (Film Nights w/Friends)
DESCRIPTION:Do you love cinema? Would you like to share your passion with our refugee friends?  We are looking for volunteers for our Filmowend mat Frënn (Film Nights w/Friends)!\nWe need volunteers to help host our film sessions in Oberkorn every 2 weeks on Saturdays at 19:00.   The main tasks are setting up the equipment\, being present during the movie\, and putting away the equipment after the movie. This is a great opportunity for volunteers to interact with the residents before and after the movie.   If you are interested in signing up and learning more\, please contact paulo@servethecity.lu \n
URL:http://servethecity.lu/events/filmowend-mat-frenn-film-nights-wfriends-7/
ATTACH;FMTTYPE=image/png:http://servethecity.lu/wp-content/uploads/2017/01/stc_fmf_graphic1-copy-e1484583500461.png
END:VEVENT
END:VCALENDAR