BEGIN:VCALENDAR
VERSION:2.0
PRODID:-//Serve The City Luxembourg - ECPv4.6.17//NONSGML v1.0//EN
CALSCALE:GREGORIAN
METHOD:PUBLISH
X-WR-CALNAME:Serve The City Luxembourg
X-ORIGINAL-URL:https://servethecity.lu
X-WR-CALDESC:Events for Serve The City Luxembourg
BEGIN:VEVENT
DTSTART;TZID=Europe/Luxembourg:20170409T130000
DTEND;TZID=Europe/Luxembourg:20170409T183000
DTSTAMP:20211008T213113
CREATED:20170213T181556Z
LAST-MODIFIED:20170213T181556Z
UID:4643-1491742800-1491762600@servethecity.lu
SUMMARY:FAL (Fondation Autisme Luxembourg)
DESCRIPTION:FAL is looking for volunteers to accompany their members to the cinema\, restaurants\, and cultural activities around Luxembourg. \nThey need 1 volunteer to accompany members on Sunday\, April 9th to Pizzeria Venezia in Wieswampach from 13h00-16h30. \nFor more info please contact Chiara@servethecity.lu or autisme@fal.lu. \n
URL:https://servethecity.lu/events/fal-fondation-autisme-luxembourg-5/
ATTACH;FMTTYPE=image/png:https://servethecity.lu/wp-content/uploads/2017/02/fal-logo-520x320-e1494697727705.png
END:VEVENT
END:VCALENDAR