BEGIN:VCALENDAR
VERSION:2.0
PRODID:-//Serve The City Luxembourg - ECPv4.6.17//NONSGML v1.0//EN
CALSCALE:GREGORIAN
METHOD:PUBLISH
X-WR-CALNAME:Serve The City Luxembourg
X-ORIGINAL-URL:https://servethecity.lu
X-WR-CALDESC:Events for Serve The City Luxembourg
BEGIN:VEVENT
DTSTART;TZID=Europe/Luxembourg:20170311T090000
DTEND;TZID=Europe/Luxembourg:20170311T120000
DTSTAMP:20211008T213315
CREATED:20170129T182031Z
LAST-MODIFIED:20170207T182954Z
UID:2880-1489222800-1489233600@servethecity.lu
SUMMARY:Foyer Esch Children's Activities
DESCRIPTION:Do you enjoy working with children? Do you have some time to spare on Saturday mornings? \nWe are looking for volunteers who can help manage fun activities for children at a shelter in Esch. The activities include cooking\, playing\, reading books\, drawing\, etc. If you would like to inspire and put a smile on a child’s face\, then write to charles@servethecity.lu for more info or sign up below. \nhttp://doodle.com/poll/fwm2fbztysatfxi6 \nPlease note\, the train ride from Luxembourg Gare to Esch takes about 45 minutes. \n
URL:https://servethecity.lu/events/foyer-esch-childrens-activities-3/
ATTACH;FMTTYPE=image/jpeg:https://servethecity.lu/wp-content/uploads/2017/01/15259177_1312729242104956_4441345795059430749_o.jpg
END:VEVENT
END:VCALENDAR