BEGIN:VCALENDAR
VERSION:2.0
PRODID:-//Serve The City Luxembourg - ECPv4.6.17//NONSGML v1.0//EN
CALSCALE:GREGORIAN
METHOD:PUBLISH
X-WR-CALNAME:Serve The City Luxembourg
X-ORIGINAL-URL:https://servethecity.lu
X-WR-CALDESC:Events for Serve The City Luxembourg
BEGIN:VEVENT
DTSTART;TZID=Europe/Luxembourg:20170520T110000
DTEND;TZID=Europe/Luxembourg:20170520T140000
DTSTAMP:20211008T212758
CREATED:20170426T144029Z
LAST-MODIFIED:20170516T193928Z
UID:5347-1495278000-1495288800@servethecity.lu
SUMMARY:Street Team
DESCRIPTION:Apologies but this event has been cancelled.  \nWe will actually do a test run this day of the same project in Esch\, so stay tuned for more news about that 😉 \n  \nJoin us for our street team! We go out twice a month to meet homeless and people in need on the streets of Luxembourg. \nWe talk with them and bring them food and drinks which we prepare together beforehand. \nOur partner organisation for this project is Stëmm vun der Strooss. Find out more at www.stemm.lu \nWe are looking for 7 volunteers. Please sign up here: cancelled \nYou can contact manuel@servethecity.lu for more info. \n
URL:https://servethecity.lu/events/street-team-10/
LOCATION:Bonnevoie\, Luxembourg
ATTACH;FMTTYPE=image/jpeg:https://servethecity.lu/wp-content/uploads/2017/03/street-team-photo-e1490909439521.jpg
END:VEVENT
END:VCALENDAR