BEGIN:VCALENDAR
VERSION:2.0
PRODID:-//Serve The City Luxembourg - ECPv4.6.17//NONSGML v1.0//EN
CALSCALE:GREGORIAN
METHOD:PUBLISH
X-WR-CALNAME:Serve The City Luxembourg
X-ORIGINAL-URL:https://servethecity.lu
X-WR-CALDESC:Events for Serve The City Luxembourg
BEGIN:VEVENT
DTSTART;TZID=Europe/Luxembourg:20170121T110000
DTEND;TZID=Europe/Luxembourg:20170121T140000
DTSTAMP:20211008T213652
CREATED:20160906T163509Z
LAST-MODIFIED:20170126T113148Z
UID:2762-1484996400-1485007200@servethecity.lu
SUMMARY:Street Team
DESCRIPTION:Join us for our street team! We go out twice a month to meet homeless and people in need on the streets of Luxembourg. \nWe talk with them and bring them food and drinks which we prepare together beforehand. \nOur partner organisation for this project is Stëmm vun der Strooss. Find out more at www.stemm.lu \nWe are looking for 7 volunteers. Please sign up here: https://goo.gl/forms/Fip4ERFQfdWzHSde2 \nYou can contact manuel@servethecity.lu for more info. \n
URL:https://servethecity.lu/events/street-team/
LOCATION:Bonnevoie\, Luxembourg
ATTACH;FMTTYPE=image/jpeg:https://servethecity.lu/wp-content/uploads/2015/01/almyra.2014-09-20-11-56-21_.jpg
END:VEVENT
END:VCALENDAR